BEGIN:VCALENDAR
VERSION:2.0
PRODID:-//HAGI - Himpunan Ahli Geofisika Indonesia - ECPv6.15.11//NONSGML v1.0//EN
CALSCALE:GREGORIAN
METHOD:PUBLISH
X-ORIGINAL-URL:https://www.hagi.or.id
X-WR-CALDESC:Events for HAGI - Himpunan Ahli Geofisika Indonesia
REFRESH-INTERVAL;VALUE=DURATION:PT1H
X-Robots-Tag:noindex
X-PUBLISHED-TTL:PT1H
BEGIN:VTIMEZONE
TZID:Asia/Jakarta
BEGIN:STANDARD
TZOFFSETFROM:+0700
TZOFFSETTO:+0700
TZNAME:WIB
DTSTART:20170101T000000
END:STANDARD
END:VTIMEZONE
BEGIN:VEVENT
DTSTART;VALUE=DATE:20181210
DTEND;VALUE=DATE:20181215
DTSTAMP:20260422T031508
CREATED:20181101T221600Z
LAST-MODIFIED:20181101T221851Z
UID:1854-1544400000-1544831999@www.hagi.or.id
SUMMARY:HAGI Regular Course : From Conceptual to Solid Facies Model
DESCRIPTION:
URL:https://www.hagi.or.id/event/hagi-regular-course-from-conceptual-to-solid-facies-model/
LOCATION:Bandung\, Indonesia
CATEGORIES:Regular Course
ATTACH;FMTTYPE=image/png:https://www.hagi.or.id/wp-content/uploads/2018/11/HAGI_Regular_Course_Dec10_2018.png
ORGANIZER;CN="HAGI":MAILTO:secretariat@hagi.or.id
END:VEVENT
BEGIN:VEVENT
DTSTART;VALUE=DATE:20181210
DTEND;VALUE=DATE:20181215
DTSTAMP:20260422T031508
CREATED:20181101T221250Z
LAST-MODIFIED:20181101T221750Z
UID:1852-1544400000-1544831999@www.hagi.or.id
SUMMARY:HAGI Regular Course : Tectonic and Structural Geology for Petroleum Exploration & Production
DESCRIPTION:
URL:https://www.hagi.or.id/event/hagi-regular-course-tectonic-and-structural-geology-for-petroleum-exploration-production/
LOCATION:Bandung\, Indonesia
CATEGORIES:Regular Course
ATTACH;FMTTYPE=image/png:https://www.hagi.or.id/wp-content/uploads/2018/11/HAGI_Regular_Course_Dec10.png
ORGANIZER;CN="HAGI":MAILTO:secretariat@hagi.or.id
END:VEVENT
BEGIN:VEVENT
DTSTART;VALUE=DATE:20181126
DTEND;VALUE=DATE:20181201
DTSTAMP:20260422T031508
CREATED:20181101T220355Z
LAST-MODIFIED:20181101T220852Z
UID:1844-1543190400-1543622399@www.hagi.or.id
SUMMARY:HAGI Regular Course : Seismic Rock Physics & Reservoir Geomechanics for Exploration\, Development and EOR
DESCRIPTION:
URL:https://www.hagi.or.id/event/hagi-regular-course-seismic-rock-physics-reservoir-geomechanics-for-exploration-development-and-eor/
LOCATION:Bandung\, Indonesia
CATEGORIES:Regular Course
ATTACH;FMTTYPE=image/png:https://www.hagi.or.id/wp-content/uploads/2018/11/HAGI_Regular_Course_Nov26_2018.png
ORGANIZER;CN="HAGI":MAILTO:secretariat@hagi.or.id
END:VEVENT
BEGIN:VEVENT
DTSTART;VALUE=DATE:20181112
DTEND;VALUE=DATE:20181115
DTSTAMP:20260422T031508
CREATED:20181101T204432Z
LAST-MODIFIED:20181101T221014Z
UID:1835-1541980800-1542239999@www.hagi.or.id
SUMMARY:HAGI Regular Course : Seismic parameter\, Design and Operation Quality Control
DESCRIPTION:
URL:https://www.hagi.or.id/event/regular-course-seismic-parameter-design-and-operation-quality-control/
LOCATION:Bandung\, Indonesia
CATEGORIES:Regular Course
ATTACH;FMTTYPE=image/png:https://www.hagi.or.id/wp-content/uploads/2018/11/HAGI_Regular_Course_Nov12_2018.png
ORGANIZER;CN="HAGI":MAILTO:secretariat@hagi.or.id
END:VEVENT
END:VCALENDAR